BEGIN:VCALENDAR
VERSION:2.0
PRODID:spatie/icalendar-generator
DESCRIPTION:Events from Inlet Island &amp;amp\; Maple Point
X-WR-CALDESC:Events from Inlet Island &amp;amp\; Maple Point
REFRESH-INTERVAL;VALUE=DURATION:PT1440M
X-PUBLISHED-TTL:PT1440M
BEGIN:VTIMEZONE
TZID:Etc/GMT+0
BEGIN:STANDARD
DTSTART:20231108T000000Z
TZOFFSETFROM:+0000
TZOFFSETTO:+0000
END:STANDARD
END:VTIMEZONE
BEGIN:VTIMEZONE
TZID:UTC
BEGIN:STANDARD
DTSTART:20250729T015758Z
TZOFFSETFROM:+0000
TZOFFSETTO:+0000
END:STANDARD
END:VTIMEZONE
BEGIN:VEVENT
UID:269-19
DTSTAMP:20260425T015758Z
SUMMARY:Clubhouse Rented
LOCATION:
ORGANIZER;CN=Mathew Coughlin:MAILTO:mattcoughlin@mac.com
DTSTART;TZID=Etc/GMT+0;VALUE=DATE:20240804
DTEND;TZID=Etc/GMT+0;VALUE=DATE:20240807
X-ALT-DESC;FMTTYPE=TEXT/HTML:
CATEGORIES:Clubhouse Rental
URL;VALUE=URI:https://inletislandpark.com/mc-events/clubhouse-rented-7/
METHOD:PUBLISH
END:VEVENT
END:VCALENDAR